BEGIN:VCALENDAR
VERSION:2.0
PRODID:-//ChallengeEU Alliance - ECPv6.15.20//NONSGML v1.0//EN
CALSCALE:GREGORIAN
METHOD:PUBLISH
X-WR-CALNAME:ChallengeEU Alliance
X-ORIGINAL-URL:https://challenge-eu.eu
X-WR-CALDESC:Events for ChallengeEU Alliance
REFRESH-INTERVAL;VALUE=DURATION:PT1H
X-Robots-Tag:noindex
X-PUBLISHED-TTL:PT1H
BEGIN:VTIMEZONE
TZID:UTC
BEGIN:STANDARD
TZOFFSETFROM:+0000
TZOFFSETTO:+0000
TZNAME:UTC
DTSTART:20250101T000000
END:STANDARD
END:VTIMEZONE
BEGIN:VEVENT
DTSTART;TZID=UTC:20260428T130000
DTEND;TZID=UTC:20260428T141500
DTSTAMP:20260425T034440
CREATED:20260423T125926Z
LAST-MODIFIED:20260423T130117Z
UID:8109-1777381200-1777385700@challenge-eu.eu
SUMMARY:Hybrid event: Preparing the Next Generation: Cracking the Job Market
DESCRIPTION:We are pleased to invite you to the event “Preparing the Next Generation: Cracking the Job Market”\, organized within the Career Fair at South East European University and the ChallengeEU alliance. \nThis session will bring together industry professionals and career experts who will share practical advice on recruitment\, career development\, and entering the job market\, along with successful career stories. \nEvent details: \n\nDate: 28 April 2026\nTime: 13:00 – 14:15\nLocation: Future Skills Center\, South East European University\nFormat: Hybrid (open to all ChallengeEU partner universities)\nRegistration Link: https://forms.gle/U5XFmVTQaCDGQmyY6 \n\nWe warmly encourage you to register and take part in this opportunity to learn\, connect\, and prepare for your future career.
URL:https://challenge-eu.eu/event/hybrid-event-preparing-the-next-generation-cracking-the-job-mark/
LOCATION:South East European University Campus-Skopje
CATEGORIES:April 28
ATTACH;FMTTYPE=image/jpeg:https://challenge-eu.eu/wp-content/uploads/2026/04/NA_October_10-scaled.jpg
END:VEVENT
BEGIN:VEVENT
DTSTART;VALUE=DATE:20260506
DTEND;VALUE=DATE:20260508
DTSTAMP:20260425T034440
CREATED:20260204T104940Z
LAST-MODIFIED:20260225T115754Z
UID:6538-1778025600-1778198399@challenge-eu.eu
SUMMARY:ChallengeEU 1st Annual Conference 2026
DESCRIPTION:This conference offers a unique opportunity to connect with academic leaders\, researchers\, students\, and stakeholders from across Europe who are committed to transforming higher education and addressing societal challenges through collaboration and innovation.
URL:https://challenge-eu.eu/1st-annual-conference-uwm-poland/
CATEGORIES:6-7 May,May 6-7
ATTACH;FMTTYPE=image/jpeg:https://challenge-eu.eu/wp-content/uploads/2026/01/DJI_0297-tiltshift-1.jpg
END:VEVENT
BEGIN:VEVENT
DTSTART;VALUE=DATE:20260511
DTEND;VALUE=DATE:20260516
DTSTAMP:20260425T034440
CREATED:20260310T143005Z
LAST-MODIFIED:20260312T101335Z
UID:7702-1778457600-1778889599@challenge-eu.eu
SUMMARY:Erasmus+ International Week at LBTU
DESCRIPTION:The Annual International Week is a collaborative academic and cultural event that brings together international partners for teaching\, exchange\, and networking. It is hosted by the Faculty of Economics and Social Development of the Latvia University of Life Sciences and Technologies. \nThe programme will begin on Monday (11th of May) with the arrival of participants and a welcome session introducing the week’s activities. Throughout the week\, participants will take part in guest lectures\, academic exchanges\, cultural events\, and networking sessions\, including the International Market presenting partner institutions\, cultures\, and opportunities for collaboration. \n>>> Registration
URL:https://challenge-eu.eu/event/erasmus-international-week-at-lbtu/
LOCATION:Latvia University of Life Sciences and Technologies
CATEGORIES:May 11-15
ATTACH;FMTTYPE=image/jpeg:https://challenge-eu.eu/wp-content/uploads/2026/03/Baltic-Pictures-15819-scaled-1.jpg
END:VEVENT
END:VCALENDAR