BEGIN:VCALENDAR
VERSION:2.0
PRODID:-//ChallengeEU Alliance - ECPv6.15.20//NONSGML v1.0//EN
CALSCALE:GREGORIAN
METHOD:PUBLISH
X-ORIGINAL-URL:https://challenge-eu.eu
X-WR-CALDESC:Events for ChallengeEU Alliance
REFRESH-INTERVAL;VALUE=DURATION:PT1H
X-Robots-Tag:noindex
X-PUBLISHED-TTL:PT1H
BEGIN:VTIMEZONE
TZID:UTC
BEGIN:STANDARD
TZOFFSETFROM:+0000
TZOFFSETTO:+0000
TZNAME:UTC
DTSTART:20250101T000000
END:STANDARD
END:VTIMEZONE
BEGIN:VEVENT
DTSTART;VALUE=DATE:20260202
DTEND;VALUE=DATE:20260203
DTSTAMP:20260424T235814
CREATED:20260128T083726Z
LAST-MODIFIED:20260413T040540Z
UID:5480-1769990400-1770076799@challenge-eu.eu
SUMMARY:BIP: Skills for Success and Global Communication
DESCRIPTION:The Erasmus+ Blended Intensive Programme (BIP)\, organised by Latvia University of Life Sciences and Technologies (LBTU)\, is an international learning experience designed to strengthen students’ key transversal and 21st-century competencies for academic\, professional\, and global environments. \nThe programme focuses on developing intercultural communication\, critical and evidence-based thinking\, media and information literacy\, and effective teamwork through structured international collaboration and guided interaction in multicultural and interdisciplinary teams. Participants will engage in both online and on-site learning activities\, gaining practical experience in working across cultures\, disciplines\, and digital environments. Students will enhance their ability to communicate clearly and responsibly\, evaluate information critically\, recognise misinformation and AI-generated content\, and collaborate successfully in international academic and professional contexts. \nThe programme is open to students from all academic fields who wish to strengthen their skills for studying\, working\, and communicating in a globalised world. The blended format combines an online component with an on-site mobility period in Jelgava\, Latvia\, offering participants valuable exposure to diverse perspectives and international learning environments. \n>>> Application for Blended Intensive Programme Skills for Success and Global Communication \nOrganiser: Latvia University of Life Sciences and Technologies (LBTU) \nLocation: Jelgava\, Latvia \nOnline component: 30 March – 24 April 2026 \nOn-site component: 13–17 April 2026 \nRegistration deadline: 2 February 2026 \nMore information: LBTU’s website \nMain illustration: Freepik.com
URL:https://challenge-eu.eu/event/bip-skills-for-success-and-global-communication-registration-is-open/
CATEGORIES:April 13-17
ATTACH;FMTTYPE=image/jpeg:https://challenge-eu.eu/wp-content/uploads/2026/01/19948925_6166892-scaled.jpg
END:VEVENT
BEGIN:VEVENT
DTSTART;TZID=UTC:20260210T100000
DTEND;TZID=UTC:20260210T111500
DTSTAMP:20260424T235814
CREATED:20260118T173712Z
LAST-MODIFIED:20260218T205821Z
UID:5724-1770717600-1770722100@challenge-eu.eu
SUMMARY:M.A.R.K.E.T. Meet-Up: SustainAbility in Events
DESCRIPTION:Join us for ChallengeEU | SustainAbility in Events\, an engaging hybrid roundtable that brings together leading experts from the Events and Tourism industries. This session will explore how events can serve as powerful catalysts for achieving sustainability goals and creating lasting legacies within destinations.\nWhat to Expect:\n\nInsightful discussions on integrating sustainability into event planning and execution.\nReal-world examples of sustainable practices in tourism and events.\nOpportunities to learn from industry leaders and share ideas on driving positive change.\n\nWhy Attend? Events are more than gatherings — they can shape communities\, influence behaviors\, and leave meaningful impacts. Discover strategies to make your events part of the sustainability solution.\nPlease register here.\nHow to Join: The event will be hosted via Microsoft Teams: ChallengeEU | SustainAbility in Events | Unión a la reunión | Microsoft Teams
URL:https://challenge-eu.eu/event/m-a-r-k-e-t-meet-up-sustainability-in-events/
CATEGORIES:February 10
ATTACH;FMTTYPE=image/jpeg:https://challenge-eu.eu/wp-content/uploads/2026/01/3726696.jpg
END:VEVENT
BEGIN:VEVENT
DTSTART;VALUE=DATE:20260222
DTEND;VALUE=DATE:20260223
DTSTAMP:20260424T235814
CREATED:20260119T110209Z
LAST-MODIFIED:20260129T101545Z
UID:5697-1771718400-1771804799@challenge-eu.eu
SUMMARY:55th edition of the International Student Research Groups Seminar at UWM
DESCRIPTION:55th International Student Research Groups Seminar “At the Boundaries of Disciplines” \nThe University of Warmia and Mazury in Olsztyn is proud to host the jubilee 55th edition of the International Student Research Groups Seminar on 26–27 May 2026. \nFor many years\, the International Student Research Groups Seminar has served as a prestigious forum for presenting the achievements of young researchers\, as well as a space for the exchange of ideas\, experiences\, and research inspiration. This year’s theme\, “At the Boundaries of Disciplines\,” highlights the importance of interdisciplinary dialogue\, cooperation between diverse fields of science\, and the search for new research perspectives that transcend traditional disciplinary boundaries. \nAbout the Event \nThe Seminar creates an open and inspiring environment for the presentation of research results\, theoretical concepts\, applied projects\, and innovative scientific solutions\, representing a broad spectrum of disciplines and research areas. \nStudents and doctoral candidates from academic institutions worldwide are welcome to participate\, either as active presenters or passive participants\, regardless of their disciplinary background. Contributions of an inter- and multidisciplinary character are particularly encouraged. \nEvent Details \n\nDates: 26–27 May 2026\nLocation: University of Warmia and Mazury in Olsztyn\, Poland\nFormat: Hybrid (in-person and online participation available)\nAbstract submission deadline: 22 February 2026\nRegistration: Available at https://mskn.uwm.edu.pl\n\nComplete information regarding participation rules\, regulations\, conference fees\, editorial requirements\, and thematic structure is available on the official event website. \nOrganizers \nManufacturing Engineering and Machinery Student Research Society Student Research Society of Botanists University of Warmia and Mazury in Olsztyn
URL:https://challenge-eu.eu/event/55th-edition-of-the-international-student-research-groups-seminar-at-uwm/
CATEGORIES:May 26
ATTACH;FMTTYPE=image/jpeg:https://challenge-eu.eu/wp-content/uploads/2026/01/ang.jpg
END:VEVENT
BEGIN:VEVENT
DTSTART;VALUE=DATE:20260223
DTEND;VALUE=DATE:20260228
DTSTAMP:20260424T235814
CREATED:20260222T065135Z
LAST-MODIFIED:20260225T065931Z
UID:6873-1771804800-1772236799@challenge-eu.eu
SUMMARY:CBL and DEI at UEL International Week
DESCRIPTION:As part of UEL’s International Week and within the scope of the ChallengeEU Alliance\, two online events will be offered to promote learning\, reflection\, and collaboration around key societal challenges. \nThese sessions aim to support participants in strengthening their competencies in Diversity\, Equity and Inclusion (DEI)\, as well as in understanding the role of image\, representation\, and social participation in contemporary contexts. \nOn 23 February\, the online workshop “CBL – Designing\, Implementing & Assessing Challenge‑Based Learning through the lens of Diversity\, Equity and Inclusion” will take place from 16:00 to 18:00 CET. This session will provide a practical and inclusive approach to Challenge‑Based Learning (CBL)\, focusing on how DEI principles can enhance the learning experience and contribute to more equitable educational environments. \nOn 27 February\, from 11:00 to 12:00 CET\, an online lecture on “Image & Social Inclusion” will be held\, exploring how visual perception\, representation\, and public image shape opportunities for social participation\, belonging\, and equity in diverse communities. \nThese events invite participants from across the ChallengeEU network to engage\, learn\, and exchange perspectives in a dynamic and internationally connected environment. \nFor more information\, please contact ChallengeEU@universidadeeuropeia.pt \nRgister: https://forms.cloud.microsoft/e/q61UjATVnn 
URL:https://challenge-eu.eu/event/cbl-and-dei-at-uel-international-week/
CATEGORIES:February 23-27
ATTACH;FMTTYPE=image/jpeg:https://challenge-eu.eu/wp-content/uploads/2026/02/546c96a0-bdd7-426c-8dcf-65893c270cf8.jpg
END:VEVENT
END:VCALENDAR