BEGIN:VCALENDAR
VERSION:2.0
PRODID:-//ChallengeEU Alliance - ECPv6.15.20//NONSGML v1.0//EN
CALSCALE:GREGORIAN
METHOD:PUBLISH
X-ORIGINAL-URL:https://challenge-eu.eu
X-WR-CALDESC:Events for ChallengeEU Alliance
REFRESH-INTERVAL;VALUE=DURATION:PT1H
X-Robots-Tag:noindex
X-PUBLISHED-TTL:PT1H
BEGIN:VTIMEZONE
TZID:UTC
BEGIN:STANDARD
TZOFFSETFROM:+0000
TZOFFSETTO:+0000
TZNAME:UTC
DTSTART:20250101T000000
END:STANDARD
END:VTIMEZONE
BEGIN:VEVENT
DTSTART;VALUE=DATE:20260420
DTEND;VALUE=DATE:20260425
DTSTAMP:20260420T184413
CREATED:20260119T135655Z
LAST-MODIFIED:20260313T122704Z
UID:5709-1776643200-1777075199@challenge-eu.eu
SUMMARY:Bioregions: Key for Sustainability - Erasmus+ Blended Intensive Programme
DESCRIPTION:Join an international learning experience combining online studies and on-site activities in Jelgava\, Latvia. Explore how bioregions support sustainable rural development across Europe through lectures\, workshops\, a hackathon\, and a field trip. Gain hands-on research experience and present your final sustainability project with students from across the EU. \n📅 Online: 30 March & 13 April 2026 \n📍 On-site: 20–24 April 2026 | Jelgava\, Latvia \n⏳ Apply by: 20 February 2026 \nPerfect for students passionate about sustainability\, rural development\, and the future of Europe. \nLink to the submission form: https://docs.google.com/forms/d/e/1FAIpQLSeZXydWWJUR-S7usD3IQfg7LtXMIneTbcZziZ3K8QDmsD1ybQ/viewform \nmain picture: www.freepik.com
URL:https://challenge-eu.eu/event/bioregions-key-for-sustainability-erasmus-blended-intensive-programme/
LOCATION:Latvia University of Life Sciences and Technologies
CATEGORIES:March 30
ATTACH;FMTTYPE=image/jpeg:https://challenge-eu.eu/wp-content/uploads/2026/01/IMG_0005-scaled.jpeg
END:VEVENT
BEGIN:VEVENT
DTSTART;VALUE=DATE:20260420
DTEND;VALUE=DATE:20260425
DTSTAMP:20260420T184413
CREATED:20260122T132350Z
LAST-MODIFIED:20260313T122535Z
UID:5981-1776643200-1777075199@challenge-eu.eu
SUMMARY:BIP: The Green Shift: Empowering Community and Nature-Based Potential
DESCRIPTION:The Erasmus+ Blended Intensive Programme The Green Shift: Empowering Community and Nature-Based Potential is an international learning programme designed to equip students with the knowledge\, skills\, and practical experience needed to build sustainable\, resilient\, and inclusive communities. \nThe programme explores how community participation\, the social economy\, and nature-based solutions can address environmental and social challenges while creating long-term development potential. The programme combines theory\, interdisciplinary learning\, and hands-on collaboration between students from different countries\, academic disciplines\, and stakeholder organisations. Participants will work in international teams to analyse real-life community challenges and develop innovative\, economically viable solutions with measurable social and environmental impact. \nThrough a blended learning format\, students will gain insight into urban agriculture\, social entrepreneurship\, impact measurement\, sustainable financing models\, and design thinking\, while developing strong problem-solving and creative thinking competences. \nOnline: March 30\, 2026\nOn-site: April 20 – 24\, 2026\nDeadline for registration: 3 March\, 2026\nLocation: Jelgava\, Latvia (Latvia University of Life Sciences and Technologies\, Faculty of Economics and ocial Development) \nRegistration: BIP The green shift: Empowering community and nature based potential \nMore details: https://www.esaf.lbtu.lv/lv/the-green-shift-empowering-community-and-nature-based-potential \nmain photo: www.freepik.com
URL:https://challenge-eu.eu/event/bip-the-green-shift-empowering-community-and-nature-based-potential/
LOCATION:Latvia University of Life Sciences and Technologies
CATEGORIES:April 20
ATTACH;FMTTYPE=image/jpeg:https://challenge-eu.eu/wp-content/uploads/2026/01/friends-with-tablet-town-street-scaled.jpg
END:VEVENT
END:VCALENDAR